Workbook
Name GreaterThanLimitErrorMsg: Validation!$G$3
Name legal_status: application_form_check!$H$9
Name LowerThanLimitErrorMsg: Validation!$G$5
Name NumberOfEntriesLimit: Validation!$G$1

Sheet Application form
A1: Submission form
A2: =application_form_check!A2 -> Please fill all the missing fields!
A4: 1. SUBMITTED by (i.e. the identity of the Tenderer)
A6: Name of Expert | J6: =application_form_check!J6 -> missing info
A7: Country of tax residency | J7: =application_form_check!J7 -> missing info
A9: Tenderer legal status (please check the relevant button)
A13: 2.A. PERSONAL DATA
A15: Full name | J15: =application_form_check!J15 -> missing info
A16: Address | J16: =application_form_check!J16 -> missing info
A17: National Tax ID | J17: =application_form_check!J17 -> missing info
A18: Telephone | J18: =application_form_check!J18 -> missing info
A19: e-mail | J19: =application_form_check!J19 -> missing info
A21: 2.B. LEGAL ENTITY DATA (Entity, which will issue the invoice)
A23: Company name | J23: =application_form_check!J23 -> OK
A24: Company address | J24: =application_form_check!J24 -> OK
A25: Registration number | J25: =application_form_check!J25 -> OK
A26: VAT number (National Tax ID) | J26: =application_form_check!J26 -> OK
A27: EU VAT number | J27: =application_form_check!J27 -> OK
A28: Name of legal representative | J28: =application_form_check!J28 -> OK
A29: Position of legal representative | J29: =application_form_check!J29 -> OK
A30: Contact person | J30: =application_form_check!J30 -> OK
A31: Telephone | J31: =application_form_check!J31 -> OK
A32: e-mail | J32: =application_form_check!J32 -> OK
A34: 3. FINANCIAL IDENTIFICATION INFORMATION
A36: Name of bank | J36: =application_form_check!J36 -> missing info
A37: Bank account holder | J37: =application_form_check!J37 -> missing info
A38: Address of bank | J38: =application_form_check!J38 -> missing info
A39: IBAN number | J39: =application_form_check!J39 -> missing info
A40: SWIFT code | J40: =application_form_check!J40 -> missing info
A43: Date:
A44: Submitted by:

Sheet List of expertise
B1: Health Industry Expertise | C1: =IF(CountOfEntries[N]>NumberOfEntriesLimit,GreaterThanLimitErrorMsg,LowerThanLimitErrorMsg) -> Expertises selected: 0 (15 left)
B2: Business expertise
B3: Innovation expertise
B4: Education expertise
B5: Other areas
B7: Areas of expertise | C7: Categories | D7: Level of expertise | E7: Justification
B9: Health Industry Expertise
C10: Biotech / Pharma | D10: Level of expertise | E10: Justification
C11: Antibodies
C12: Anti-infectives
C13: Bioengineering
C14: Bioinformatics
C15: Biosimilars
C16: Cell therapy
C17: Cosmetics
C18: Diagnostics
C19: Drug delivery
C20: Gene therapy
C21: Generics
C22: Genomics
... C36: Vaccines
C38: Digital Health | D38: Level of expertise | E38: Justification
C39: Doctor networks
C40: Electronic medical record / Electronic health record
C41: Health & wellness (IoT), wearables
C42: Healthcare mobile communication
C43: Medical big data & analytics
C44: Mobile fitness / Health apps
C45: Online health communities
C46: Predictive analytics
C47: Sensors
C48: Telehealth & mobile health
C50: MedTech | D50: Level of expertise | E50: Justification
C51: Active implantable devices
C52: Anesthetic and respiratory devices
C53: Biomaterials
C54: Coatings
C55: Delivery devices
C56: Dental devices
C57: Diagnostic and therapeutic radiation devices
...

Sheet Guidance to fill
A1: Expertise | B1: Please select the relevant expertise from the list of health-related and other topics; up to 15 expertises can be selected
A2: Level of expertise | B2: High - Experience is of high level, more than 10 years relevant work experience in relation
B3: Medium - At least five years overall experience related to the given expertise
B4: Low - At least three years overall experience related to the given expertise
A5: Justification | B5: Please include relevant work experience including number of years and work place that can be identified as per your CV; maximum 200 characters

Sheet Validation
A1: Level | B1: Level_raw | D1: N | F1: NumberOfEntriesLimit: | G1: 15
A2: =IF(CountOfEntries[]<NumberOfEntriesLimit,Levels[[#This Row],[Level_raw]],"") -> Low (3-4 years) | B2: Low (3-4 years) | D2: =COUNTA('List of expertise'!$D$9:$D$243)-COUNTIF('List of expertise'!$D$9:$D$243,"Level of expertise") -> 0
A3: =IF(CountOfEntries[]<NumberOfEntriesLimit,Levels[[#This Row],[Level_raw]],"") -> Medium (5-10 years) | B3: Medium (5-10 years) | F3: GreaterThanLimitErrorMsg: | G3: =CONCATENATE("No more than ",NumberOfEntriesLimit," expertises can be selected!") -> No more than 15 expertises can be selected!
A4: =IF(CountOfEntries[]<NumberOfEntriesLimit,Levels[[#This Row],[Level_raw]],"") -> High (over 10 years) | B4: High (over 10 years)
F5: LowerThanLimitErrorMsg: | G5: =CONCATENATE("Expertises selected: ",CountOfEntries[N]," (",NumberOfEntriesLimit-CountOfEntries[N]," left)") -> Expertises selected: 0 (15 left)

Sheet application_form_check
A1: Expert Application form
A2: =IF(ISERROR(VLOOKUP("missing info",J:K,1,FALSE)),"","Please fill all the missing fields!") -> Please fill all the missing fields!
A4: 1. SUBMITTED by (i.e. the identity of the Expert)
A6: Name of applicant | D6: ='Application form'!D6 -> 0 | J6: =IF(D6=0,"missing info","OK") -> missing info
A7: Country of tax residency | D7: ='Application form'!D7 -> 0 | J7: =IF(D7=0,"missing info","OK") -> missing info
A9: Expert legal status (please check the relevant button) | H9: 2
A13: 2.A. PERSONAL DATA
A15: Full name | D15: ='Application form'!D15 -> 0 | J15: =IF($H$9=1,IF(OR(D15=0,D15=""),"OK","Legal entity status is selected, please delete data from here"),IF(D15=0,"missing info","OK")) -> missing info
A16: Address | D16: ='Application form'!D16 -> 0 | J16: =IF($H$9=1,IF(D16=0,"OK","Legal entity status is selected, please delete data from here"),IF(D16=0,"missing info","OK")) -> missing info
A17: National Tax ID | D17: ='Application form'!D17 -> 0 | J17: =IF($H$9=1,IF(D17=0,"OK","Legal entity status is selected, please delete data from here"),IF(D17=0,"missing info","OK")) -> missing info
A18: Telephone | D18: ='Application form'!D18 -> 0 | J18: =IF($H$9=1,IF(D18=0,"OK","Legal entity status is selected, please delete data from here"),IF(D18=0,"missing info","OK")) -> missing info
A19: e-mail | D19: ='Application form'!D19 -> 0 | J19: =IF($H$9=1,IF(D19=0,"OK","Legal entity status is selected, please delete data from here"),IF(D19=0,"missing info","OK")) -> missing info
A21: 2.B. LEGAL ENTITY DATA (Entity, which will issue the invoice)
A23: Company name | D23: ='Application form'!D23 -> 0 | J23: =IF($H$9=1,IF(D23=0,"missing info","OK"),IF(OR(D23=0,D23=""),"OK","Natural person status is selected, please delete data from here")) -> OK
A24: Company address | D24: ='Application form'!D24 -> 0 | J24: =IF($H$9=1,IF(D24=0,"missing info","OK"),IF(D24=0,"OK","Natural person status is selected, please delete data from here")) -> OK
A25: Registration number | D25: ='Application form'!D25 -> 0 | J25: =IF($H$9=1,IF(D25=0,"missing info","OK"),IF(D25=0,"OK","Natural person status is selected, please delete data from here")) -> OK
A26: VAT number (National Tax ID) | D26: ='Application form'!D26 -> 0 | J26: =IF($H$9=1,IF(D26=0,"missing info","OK"),IF(D26=0,"OK","Natural person status is selected, please delete data from here")) -> OK
A27: EU VAT number | D27: ='Application form'!D27 -> 0 | J27: =IF($H$9=1,IF(D27=0,"missing info","OK"),IF(D27=0,"OK","Natural person status is selected, please delete data from here")) -> OK
A28: Name of legal representative | D28: ='Application form'!D28 -> 0 | J28: =IF($H$9=1,IF(D28=0,"missing info","OK"),IF(D28=0,"OK","Natural person status is selected, please delete data from here")) -> OK
A29: Position of legal representative | D29: ='Application form'!D29 -> 0 | J29: =IF($H$9=1,IF(D29=0,"missing info","OK"),IF(D29=0,"OK","Natural person status is selected, please delete data from here")) -> OK
A30: Contact person | D30: ='Application form'!D30 -> 0 | J30: =IF($H$9=1,IF(D30=0,"missing info","OK"),IF(D30=0,"OK","Natural person status is selected, please delete data from here")) -> OK
A31: Telephone | D31: ='Application form'!D31 -> 0 | J31: =IF($H$9=1,IF(D31=0,"missing info","OK"),IF(D31=0,"OK","Natural person status is selected, please delete data from here")) -> OK
A32: e-mail | D32: ='Application form'!D32 -> 0 | J32: =IF($H$9=1,IF(D32=0,"missing info","OK"),IF(D32=0,"OK","Natural person status is selected, please delete data from here")) -> OK
A34: 3. FINANCIAL IDENTIFICATION INFORMATION
A36: Name of bank | D36: ='Application form'!D36 -> 0 | J36: =IF(D36=0,"missing info","OK") -> missing info
A37: Bank account holder | D37: ='Application form'!D37 -> 0 | J37: =IF(D37=0,"missing info","OK") -> missing info
A38: Address of bank | D38: ='Application form'!D38 -> 0 | J38: =IF(D38=0,"missing info","OK") -> missing info
A39: IBAN number | D39: ='Application form'!D39 -> 0 | J39: =IF(D39=0,"missing info","OK") -> missing info
A40: SWIFT code | D40: ='Application form'!D40 -> 0 | J40: =IF(D40=0,"missing info","OK") -> missing info
A42: 4. OFFER PRICE
